BEGIN:VCALENDAR
VERSION:2.0
BEGIN:VEVENT
URL:https://www.networkinaction.com/index.php/events/viewevent/4378-nia-business-mastermind?groupid=119 
DTSTART:20210409T114500
DTEND:20210409T130000
SUMMARY:NIA Business Mastermind
DESCRIPTION:You can sign up here - https://www.eventbrite.com/e/business-masterminds-wbusiness-coach-tammy-mckinney-tickets-143857954013
Promo code - NIAMember

This mastermind group provides combination of training, coaching, and masterminding in a group setting for your personal and business  development.  (All session are held on Zoom.)

Sessions will be  focused on principles and best practices  for high  performance, leadership and goal achievement.   A concept  will be presented by your coach and then we will have powerful facilitated discussions.   Experience and expertise  share from each member will  increase our own growth.   

KEY BENEFITS OF THIS  MASTERMIND GROUP
 -Increase your Influence, Income & Impact.
 -Grow Your  Clarity, Competence and Confidence
 -Sharpen Your Business and Personal Skills
 -Connect With a Valuable Peer  Network
 -Feedback  and Brainstorming with  Peers  
 -Leverage  the Experience and Skills of Others
-Receive Critical Insights Into Yourself
-A Sense of Shared Endeavor for Success
-Commitment to Transformational Growth

HOW IT WORKS
-  Register for this NIA Business Mastermind
-  Meeting is the 2nd Friday of the Month From 11:30-1:00 Via Zoom
-   Session details and/or documents Will Be Sent Via Email

This is for you if you are ready to unlock more of  your  personal and professional  success with coaching, training and community .
LOCATION:www.networkingwithzoom.com
END:VEVENT
END:VCALENDAR