BEGIN:VCALENDAR
VERSION:2.0
BEGIN:VEVENT
URL:https://www.networkinaction.com/index.php/events/viewevent/4376-test-event-5 
DTSTART:20210320T000000
DTEND:20210320T001500
SUMMARY:test event 5
DESCRIPTION:test
LOCATION:123 main st
END:VEVENT
END:VCALENDAR