BEGIN:VCALENDAR
VERSION:2.0
BEGIN:VEVENT
URL:https://www.networkinaction.com/index.php/events/viewevent/4370-test 
DTSTART:20210317T000000
DTEND:20210317T001500
SUMMARY:test
DESCRIPTION:test
LOCATION:222 Malone St, Houston, TX 77007
END:VEVENT
END:VCALENDAR