BEGIN:VCALENDAR
VERSION:2.0
BEGIN:VEVENT
URL:https://www.networkinaction.com/index.php/events/viewevent/4347-let-s-go-shoot-stuff?groupid=119 
DTSTART:20210402T130000
DTEND:20210402T170000
SUMMARY:Let's Go Shoot Stuff!
DESCRIPTION:We're kicking off our regular social meetings at the fun outdoor shooting range Lonestar Range & Academy.

Bring your own guns and ammo, and take a lovely drive out to Florence to hang out with others in the NIA community all afternoon.

We look forward to seeing you there!
LOCATION:10000 N, US-183, Florence, TX 76527
END:VEVENT
END:VCALENDAR