BEGIN:VCALENDAR
VERSION:2.0
BEGIN:VEVENT
URL:https://www.networkinaction.com/index.php/events/viewevent/4346-virtual-give-and-get-reviews-session?groupid=86 
DTSTART:20210319T090000
DTEND:20210319T100000
SUMMARY:Virtual Give and Get Reviews session
DESCRIPTION:This is for giving and receiving reviews from our members. In this 60 minute session we can give reviews to each others fb, linkedin and Google my business. If you haven't actually used each other services, I will show how you can still leave an authentic and honest review. Bring the Review Tips pdf to the meeting.
LOCATION:zoom.us/j/6025490447
END:VEVENT
END:VCALENDAR