BEGIN:VCALENDAR
VERSION:2.0
BEGIN:VEVENT
URL:https://www.networkinaction.com/index.php/events/viewevent/4344-lunch-bunch-for-all-members-12-30-to-1-00?groupid=1 
DTSTART:20210312T123000
DTEND:20210312T134500
SUMMARY:Lunch Bunch For all members 12:30 to 1:00 
DESCRIPTION:
LOCATION:Warehouse 72 7620 Katy Freeway Suite 305 
END:VEVENT
END:VCALENDAR