BEGIN:VCALENDAR
VERSION:2.0
BEGIN:VEVENT
URL:https://www.networkinaction.com/index.php/events/viewevent/4341-no-more-zoom-monthly-meeting-3-00-to-4-30?groupid=1 
DTSTART:20210408T150000
DTEND:20210408T163000
SUMMARY:NO MORE ZOOM MONTHLY MEETING 3:00 to 4:30 
DESCRIPTION:We are planning to meet in person only. If you are not comfortable contact me ahead of time and we will accommodate. I can even accommodate you out side the room at a table by your self! 
LOCATION:Warehouse 72 7620 Katy Freeway Suite 305 
END:VEVENT
END:VCALENDAR