BEGIN:VCALENDAR
VERSION:2.0
BEGIN:VEVENT
URL:https://www.networkinaction.com/index.php/events/viewevent/4334-save-the-date-10-30-cst-11-30-est-8-30-pst-virtual-coffee-clique?groupid=112 
DTSTART:20210414T103000
DTEND:20210414T113000
SUMMARY:Save The Date 10:30 cst, 11:30 est, 8:30 pst Virtual Coffee Clique
DESCRIPTION:
LOCATION:www.zoomwithnia.com
END:VEVENT
END:VCALENDAR