BEGIN:VCALENDAR
VERSION:2.0
BEGIN:VEVENT
URL:https://www.networkinaction.com/index.php/events/viewevent/4331-nia-harford-county-monthly-meeting?groupid=139 
DTSTART:20210311T150000
DTEND:20210311T163000
SUMMARY:NIA Harford County Monthly Meeting 
DESCRIPTION:Please join us for our March Meeting at ZoomWithJoryFisher.com
LOCATION:ZoomWithJoryFisher.com
END:VEVENT
END:VCALENDAR