BEGIN:VCALENDAR
VERSION:2.0
BEGIN:VEVENT
URL:https://www.networkinaction.com/index.php/events/viewevent/4279-group-leaders-weekly-goals-and-check-in?groupid=152 
DTSTART:20210322T130000
DTEND:20210322T140000
SUMMARY:Group Leaders Weekly Goals and Check In
RRULE:FREQ=WEEKLY;UNTIL=20220314T000000
DESCRIPTION:<p>This weekly call is for all of Lori's Group Leaders. </p><p>You are invited to join us every week for training, goal setting and accountability, sharing best practices and general team building!</p>
LOCATION:zoom.us/j/8018248814
END:VEVENT
END:VCALENDAR