BEGIN:VCALENDAR
VERSION:2.0
BEGIN:VEVENT
URL:https://www.networkinaction.com/index.php/events/viewevent/4276-march-monthly-meeting-cypress?groupid=11 
DTSTART:20210318T153000
DTEND:20210318T170000
SUMMARY:March Monthly Meeting - Cypress
DESCRIPTION:Welcome back to our first, full LIVE in person monthly meeting! Meet and greet new members and renew old friendships next Thursday March 18 at 3:30 PM to 5 PM at BB's Tex-Orleans!  Confirm with Rich 713-705-6095.
LOCATION:BB's Tex-Orleans, 26010 Hempstead Hwy, Cypress, TX 77433
END:VEVENT
END:VCALENDAR