BEGIN:VCALENDAR
VERSION:2.0
BEGIN:VEVENT
URL:https://www.networkinaction.com/index.php/events/viewevent/4273-social-media-videos?groupid=119 
DTSTART:20210319T090000
DTEND:20210319T130000
SUMMARY:Social Media Videos
DESCRIPTION:Let Justin know asap what timeframe you'd like to book your 30 minute social media video session at between 9-1. These are all first come first serve.

This session will be held at Gabe Cepeda's Farmer's agency.
LOCATION:Farmer's Cepeda Agency
END:VEVENT
END:VCALENDAR