BEGIN:VCALENDAR
VERSION:2.0
BEGIN:VEVENT
URL:https://www.networkinaction.com/index.php/events/viewevent/4263-austin-area-speed-networking?groupid=53 
DTSTART:20210406T114500
DTEND:20210406T124500
SUMMARY:Austin Area Speed Networking
DESCRIPTION:We had a great turnout and a lot of fun at our last event, so we're making this a monthly thing. Come join us from 11:45-12:45 for speed networking with members from every single group that's currently in the Austin area.

Just go to www.networkingwithzoom.com to join us. 

We look forward to seeing you there!
LOCATION:www.networkingwithzoom.com
END:VEVENT
END:VCALENDAR