BEGIN:VCALENDAR
VERSION:2.0
BEGIN:VEVENT
URL:https://www.networkinaction.com/index.php/events/viewevent/4248-march-nia-meeting-digging-deeper?groupid=72 
DTSTART:20210310T150000
DTEND:20210310T163000
SUMMARY:March NIA Meeting: Digging Deeper
DESCRIPTION:<p>At the March meeting, we'll get under the surface to address the kinds of questions you might ask yourself from time to time but don't have solid answers to. </p><p>What would you do if you knew you could not fail? </p><p>What moves you to tears or goosebumps? </p><p>What do you think you spend too much time doing? </p><p>The idea is to provoke thought, not necessarily to figure out an action plan or solve a problem. </p>
LOCATION:Zoom - zoomwithjongreer.com , meeting ID 7674301875
END:VEVENT
END:VCALENDAR