BEGIN:VCALENDAR
VERSION:2.0
BEGIN:VEVENT
URL:https://www.networkinaction.com/index.php/events/viewevent/4238-monthly-meeting?groupid=68 
DTSTART:20210311T153000
DTEND:20210311T170000
SUMMARY:Monthly Meeting
RRULE:FREQ=MONTHLY;UNTIL=20211209T000000
DESCRIPTION:
LOCATION:Zoom.us, Meeting ID 713-678-0468
END:VEVENT
END:VCALENDAR