BEGIN:VCALENDAR
VERSION:2.0
BEGIN:VEVENT
URL:https://www.networkinaction.com/index.php/events/viewevent/4228-nia-harford-county-monthly-gathering?groupid=139 
DTSTART:20210303T150000
DTEND:20210303T163000
SUMMARY:NIA Harford County Monthly Gathering
DESCRIPTION:Please join me at <a href="https://zoom.us/j/4342586793#success">ZoomWithJoryFisher.com</a> for our March meeting. <br />
LOCATION:Zoom Call 
END:VEVENT
END:VCALENDAR