BEGIN:VCALENDAR
VERSION:2.0
BEGIN:VEVENT
URL:https://www.networkinaction.com/index.php/events/viewevent/4221-march-meeting?groupid=147 
DTSTART:20210311T150000
DTEND:20210311T163000
SUMMARY:March Meeting
DESCRIPTION:<p>Join your fellow group members for our March meeting.  As always, we have a fantastic meeting planned.  Join us at Lupe Tortilla.
</p>
<p>Looking forward to seeing you there!</p>
LOCATION:Lupe Tortilla, 9313 Katy Freeway, 77024
END:VEVENT
END:VCALENDAR