BEGIN:VCALENDAR
VERSION:2.0
BEGIN:VEVENT
URL:https://www.networkinaction.com/index.php/events/viewevent/4220-march-meeting?groupid=140 
DTSTART:20210310T150000
DTEND:20210310T163000
SUMMARY:March Meeting
DESCRIPTION:<p>Join your fellow group members for our March meeting.  As always, we have a fantastic meeting planned.  Join us at Churrascos.</p>
<p>Looking forward to seeing you there!</p>
LOCATION:Churrascos Sugar Land, 1520 Lake Pointe Pkwy, Ste 500, Sugar Land, TX 77478
END:VEVENT
END:VCALENDAR