BEGIN:VCALENDAR
VERSION:2.0
BEGIN:VEVENT
URL:https://www.networkinaction.com/index.php/events/viewevent/4219-march-meeting?groupid=77 
DTSTART:20210309T150000
DTEND:20210309T163000
SUMMARY:March Meeting
DESCRIPTION:<p>Join your fellow group members for our March meeting.  As always, we have a fantastic meeting planned.  Join us at Lupe Tortilla or on Zoom at:   https://us02web.zoom.us/j/84835209716?pwd=c2hSRHliWGU4dUROTkJ3M01zWUp3QT09.</p><p>Looking forward to seeing you there!</p>
LOCATION:Lupe Tortilla, 9313 Katy Freeway, 77024 and Zoom
END:VEVENT
END:VCALENDAR