BEGIN:VCALENDAR
VERSION:2.0
BEGIN:VEVENT
URL:https://www.networkinaction.com/index.php/events/viewevent/4217-monthly-meeting-warehouse-72-3-00-to-4-30?groupid=1 
DTSTART:20210311T150000
DTEND:20210311T163000
SUMMARY:Monthly Meeting Warehouse 72    3:00 to 4:30 
DESCRIPTION: If you are attending live you must bring a tablet, laptop, phone and air pods, ear plugs or something to plug into so all of us can be connected with both those in attendance and those on zoom. Please bring a listening device, tablet, laptop or phone. Thanks in advance for helping us run a successful meeting. 
LOCATION:www.zoomwithnia.com  and   Warehouse 72 
END:VEVENT
END:VCALENDAR