BEGIN:VCALENDAR
VERSION:2.0
BEGIN:VEVENT
URL:https://www.networkinaction.com/index.php/events/viewevent/4212-business-masterminds-w-tammy-mckinney?groupid=144 
DTSTART:20210312T113000
DTEND:20210312T130000
SUMMARY:Business Masterminds w/Tammy McKinney
DESCRIPTION:***NIA Members have a discounted rate. At checkout put in promo code NIAMember for $50 off***

You can purchase tickets here - https://www.eventbrite.com/e/business-masterminds-wbusiness-coach-tammy-mckinney-tickets-143857881797

This is a Zoom event and it contains a combination of training, coaching, and masterminding in a group setting for your business and personal growth.

KEY BENEFITS OF A MASTERMIND GROUP
-Learn Principles and Practices to increase your influence, income, and impact

-Increase Your Own Experience and Confidence

-Sharpen Your Business and Personal Skills

-Connect With a Valuable Support Network

-Get Honest Feedback, Advice, and Brainstorming

-Borrow on the Experience and Skills of Other Members

-Receive Critical Insights Into Yourself

-Optimistic Peer Support

-A Sense of Shared Endeavor for Success

-Commitment to Transformational Growth
LOCATION:www.networkingwithzoom.com
END:VEVENT
END:VCALENDAR