BEGIN:VCALENDAR
VERSION:2.0
BEGIN:VEVENT
URL:https://www.networkinaction.com/index.php/events/viewevent/4158-nia-mixer-at-hooters-john-s-pass-madeira-beach?groupid=49 
DTSTART:20210318T160000
DTEND:20210318T173000
SUMMARY:NIA Mixer at Hooters - John's Pass, Madeira Beach
DESCRIPTION:<p>Join us for in person networking in the private room at Hooters, John's Pass!</p>
LOCATION:Hooters, John's Pass, Madeira Beach
END:VEVENT
END:VCALENDAR