BEGIN:VCALENDAR
VERSION:2.0
BEGIN:VEVENT
URL:https://www.networkinaction.com/index.php/events/viewevent/4150-nia-biz-expo-planning-meeting?groupid=46 
DTSTART:20210305T100000
DTEND:20210305T110000
SUMMARY:NIA Biz Expo Planning Meeting
DESCRIPTION:<p>Some members recently suggested holding an NIA Business Expo.  This would provide our members with additional exposure and a platform to educate the public on what they do. In order to explore this option more fully, I'd like to invite interested NIA member to join in on this Zoom planning call.  </p><p>Items to discuss include:</p><p><ul><li>Determining NIA member interest in the event<br /></li><li>Exploring potential themes for the Expo<br /></li><li>Reviewing expo virtual platform options<br /></li><li>Discussing how to promote the Expo.</li></ul></p><p>If you are interested in participating in this project, please mark your calendar and prepare to join in this discussion!  We need your feedback!</p><p>Join by Zoom at:</p><p>https://zoom.us/j/9460662409?pwd=dkVxRFR1VUw5Z3M4akNMY2ZWcWJzZz09</p><p>Thanks!</p>
LOCATION:Zoom meeting
END:VEVENT
END:VCALENDAR