BEGIN:VCALENDAR
VERSION:2.0
BEGIN:VEVENT
URL:https://www.networkinaction.com/index.php/events/viewevent/4148-launch-meeting-10-30-cst-11-30-est-8-30-pst?groupid=112 
DTSTART:20210310T103000
DTEND:20210310T113000
SUMMARY:Launch Meeting 10:30 cst, 11:30 est, 8:30 pst
DESCRIPTION:Come and meet fellow NIA members who all share a passion for providing their customers the best realtor referrals around the country. We will discuss ideas on how we provide that service and what it takes to remain in this group!
LOCATION:www.zoomwithnia.com
END:VEVENT
END:VCALENDAR