BEGIN:VCALENDAR
VERSION:2.0
BEGIN:VEVENT
URL:https://www.networkinaction.com/index.php/events/viewevent/4136-help-snackz-assembly?groupid=86 
DTSTART:20210227T090000
DTEND:20210227T120000
SUMMARY:HELP Snackz Assembly
DESCRIPTION:<p>Looking forward to seeing everyone this Saturday at our HELPSnackz event. Please share and make sure to sign up at:  <a href="https://homelessliftpartnership.com/event/feb-2721/"><a href="https://homelessliftpartnership.com/event/feb-2721/" target="https://homelessliftpartnership.com/event/feb-2721/">https://homelessliftpartnership.com/event/feb-2721/</a></a></p>
LOCATION:11034 N 23rd Drive Ste 105 Phoenix, AZ 85029 United States
END:VEVENT
END:VCALENDAR