BEGIN:VCALENDAR
VERSION:2.0
BEGIN:VEVENT
URL:https://www.networkinaction.com/index.php/events/viewevent/4124-nia-stellar-connections-monthly-meeting?groupid=86 
DTSTART:20210310T150000
DTEND:20210310T163000
SUMMARY:NIA - Stellar Connections  Monthly Meeting
RRULE:FREQ=MONTHLY;UNTIL=20220224T000000
DESCRIPTION:<p>Excited for our March meeting. It will be at a new location in a private room. Masks are required only from front door to private room. </p><p>We will have a new agenda to learn more about our members as well as our visitors. </p><p>Looking forward to seeing you then. </p><p><br />Any questions, feel free to call me 602-549-0447</p>
LOCATION:Carrabba's private room 17007 N Scottsdale Road Scottsdale, AZ 85225
END:VEVENT
END:VCALENDAR