BEGIN:VCALENDAR
VERSION:2.0
BEGIN:VEVENT
URL:https://www.networkinaction.com/index.php/events/viewevent/4116-march-monthly-meeting?groupid=14 
DTSTART:20210303T153000
DTEND:20210303T170000
SUMMARY:March Monthly Meeting
DESCRIPTION:<p>              Please join us for our  MARCH MONTHLY MEETING</p><br /><p>                         MARCH 3RD  WEDNESDAY  3:30 TO 5:00</p><br /><p>We will be having an in-person meeting at the Memorial Wine Bar. Please come to network with each other and meet our new members and guests! We will be social distancing and have the entire bar. Masks will be required unless you are speaking, eating or drinking!</p><br /><p>We have a great networking activity! </p><br /><p>We also have an option through Zoom for those who want to attend virtually. If you do attend by Zoom please participate in the entire meeting.  We will be doing breakouts!  Guests are attending! 100% attendance is appreciated and you may send a sub!</p><br /><p>Join Zoom Meeting</p><br /><p>https://zoom.us/j/6987676230</p><br /><p>Look forward to seeing you in person or virtually!! </p><br /><p>PLEASE RSVP IF YOU WILL BE IN PERSON OR THROUGH ZOOM!</p><br /><br />
LOCATION:Memorial Wine Cellar, 7951 Katy Freeway
END:VEVENT
END:VCALENDAR