BEGIN:VCALENDAR
VERSION:2.0
BEGIN:VEVENT
URL:https://www.networkinaction.com/index.php/events/viewevent/4034-february-all-group-happy-hour?groupid=140 
DTSTART:20210224T170000
DTEND:20210224T190000
SUMMARY:February All Group Happy Hour
DESCRIPTION:<p>I invite you to join your group members and the members of the other Business Force groups for our February Happy Hour.  After last week, we could all use some camaraderie and cheer!  Looking forward to seeing you there!</p>
LOCATION:The Pub Fountains,  12720 Southwest Fwy, Stafford, TX 77477
END:VEVENT
END:VCALENDAR