BEGIN:VCALENDAR
VERSION:2.0
BEGIN:VEVENT
URL:https://www.networkinaction.com/index.php/events/viewevent/4023-cypress-february-monthly-meeting?groupid=11 
DTSTART:20210225T153000
DTEND:20210225T170000
SUMMARY:Cypress February Monthly Meeting 
DESCRIPTION:<p>Rich Iazzetti is inviting you to a scheduled Zoom meeting.
</p>
<p>Topic: NIA Cypress Monthly Meeting
</p><p>Time: Feb 25, 2021 03:30 PM Central Time (US and Canada)
</p><p>Join Zoom Meeting<br /></p><p>https://us02web.zoom.us/j/390706596?pwd=SjhPZW1hTFE0dlpwMm9ibzJ1dmNGUT09
</p><p>Meeting ID: 390 706 596
</p><p>Passcode: 465594
</p><p>One tap mobile
</p><p>+13462487799,,390706596#,,,,*465594# US (Houston)
</p><p>Find your local number: https://us02web.zoom.us/u/kcCrqGajaa<br /></p><br />




LOCATION:Zoom Virtual
END:VEVENT
END:VCALENDAR