BEGIN:VCALENDAR
VERSION:2.0
BEGIN:VEVENT
URL:https://www.networkinaction.com/index.php/events/viewevent/3994-nia-mixer-at-hooters-john-s-pass-madeira-beach?groupid=49 
DTSTART:20210218T160000
DTEND:20210218T173000
SUMMARY:NIA Mixer at Hooters - John's Pass, Madeira Beach
DESCRIPTION:<p>We'll be in the private room in the back.</p>
LOCATION:Hooters - John's Pass, Madeira Beach
END:VEVENT
END:VCALENDAR