BEGIN:VCALENDAR
VERSION:2.0
BEGIN:VEVENT
URL:https://www.networkinaction.com/index.php/events/viewevent/3987-nia-mastermind?groupid=163 
DTSTART:20210212T113000
DTEND:20210212T130000
SUMMARY:NIA Mastermind
DESCRIPTION:It's our first ever Network in Action Mastermind session! Tammy McKinney will be facilitating a peer group in a Mastermind session over Zoom. The price for non-members is $149, but NIA members get a $50 discount! Just use the code NIAMember at checkout here - https://www.eventbrite.com/e/business-mastermind-event-tickets-137997194323
LOCATION:www.networkingwithzoom.com
END:VEVENT
END:VCALENDAR