BEGIN:VCALENDAR
VERSION:2.0
BEGIN:VEVENT
URL:https://www.networkinaction.com/index.php/events/viewevent/3965-austin-wide-nia-speed-networking-event?groupid=50 
DTSTART:20210302T114500
DTEND:20210302T130000
SUMMARY:Austin-Wide NIA Speed Networking Event!!!
DESCRIPTION:Christina, Charles and myself are hard at work setting up more ways for you to network with others in the greater NIA community. We're having our first ever monthly Austin-wide speed networking event on Zoom.

Come one, come all to www.networkingwithzoom.com
LOCATION:www.networkingwithzoom.com
END:VEVENT
END:VCALENDAR