BEGIN:VCALENDAR
VERSION:2.0
BEGIN:VEVENT
URL:https://www.networkinaction.com/index.php/events/viewevent/3962-nia-stellar-connections-monthly-meeting?groupid=86 
DTSTART:20210210T150000
DTEND:20210210T163000
SUMMARY:NIA - Stellar Connections  Monthly Meeting
DESCRIPTION:Come join this monthly meeting. Guest have been invited and are welcome to attend.  For those who feel uncomfortable with inperson this will be a hybrid meeting...although most are RSVP for inperson. online is zoom.us/j/6025490447 
LOCATION:16640 N Scottsdale Rd, Scottsdale, AZ 85254
END:VEVENT
END:VCALENDAR