BEGIN:VCALENDAR
VERSION:2.0
BEGIN:VEVENT
URL:https://www.networkinaction.com/index.php/events/viewevent/3960-february-nia-meeting-becoming-a-master-networker?groupid=72 
DTSTART:20210210T150000
DTEND:20210210T163000
SUMMARY:February NIA Meeting: Becoming a Master Networker
DESCRIPTION:
LOCATION:Zoom - zoomwithjongreer.com , meeting ID 7674301875
END:VEVENT
END:VCALENDAR