BEGIN:VCALENDAR
VERSION:2.0
BEGIN:VEVENT
URL:https://www.networkinaction.com/index.php/events/viewevent/3938-monthly-business-meeting?groupid=87 
DTSTART:20210211T150000
DTEND:20210211T163000
SUMMARY:Monthly Business Meeting
DESCRIPTION:<p>If you want to come in person it's at the Foxhole Tavern</p>If you want to Zoom in it's at www.networkingwithzoom.com
LOCATION:Foxhole Culinary Tavern
END:VEVENT
END:VCALENDAR