BEGIN:VCALENDAR
VERSION:2.0
BEGIN:VEVENT
URL:https://www.networkinaction.com/index.php/events/viewevent/3931-monthly-business-meeting?groupid=144 
DTSTART:20210216T150000
DTEND:20210216T163000
SUMMARY:Monthly Business Meeting
DESCRIPTION:<p>If you want to come in person it's at the High Country Market Gastropub</p><br />If you join us via Zoom it's at our usual www.networkingwithzoom.com
LOCATION:High Country Market Gastropub
END:VEVENT
END:VCALENDAR