BEGIN:VCALENDAR
VERSION:2.0
BEGIN:VEVENT
URL:https://www.networkinaction.com/index.php/events/viewevent/3915-social-media-video-session-must-sign-up?groupid=119 
DTSTART:20210219T090000
DTEND:20210219T130000
SUMMARY:Social Media Video Session *Must Sign Up*
DESCRIPTION:We're going to be shooting social media videos for our members from 9-1 today! You need to sign up for a 30 minute session by emailing justin@txnia.com with your top 3 time slots you'd like. These spots are on a first come first serve basis, so get your email in asap!

We will be having these sessions at Gabe Cepeda's Farmers agency.
LOCATION:11615 Angus Rd Ste 120, Austin, TX 78759
END:VEVENT
END:VCALENDAR