BEGIN:VCALENDAR
VERSION:2.0
BEGIN:VEVENT
URL:https://www.networkinaction.com/index.php/events/viewevent/3901-network-in-action-monthly-meeting?groupid=29 
DTSTART:20210211T150000
DTEND:20210211T163000
SUMMARY:Network in Action - Monthly Meeting
DESCRIPTION:
LOCATION:https://us02web.zoom.us/j/9018421246
END:VEVENT
END:VCALENDAR