BEGIN:VCALENDAR
VERSION:2.0
BEGIN:VEVENT
URL:https://www.networkinaction.com/index.php/events/viewevent/3895-february-meeting?groupid=140 
DTSTART:20210210T150000
DTEND:20210210T163000
SUMMARY:February Meeting
DESCRIPTION:<p>Join your fellow group members for our February meeting. Please make sure and arrange your schedule so you can join us!</p><p>See you there!</p>
LOCATION:Churrascos Sugar Land, 1520 Lake Pointe Pkwy, Ste 500, Sugar Land, TX 77478
END:VEVENT
END:VCALENDAR