BEGIN:VCALENDAR
VERSION:2.0
BEGIN:VEVENT
URL:https://www.networkinaction.com/index.php/events/viewevent/3894-february-meeting?groupid=147 
DTSTART:20210211T150000
DTEND:20210211T163000
SUMMARY:February Meeting
DESCRIPTION:<p>Join your fellow group members for our February meeting.  Please make sure and arrange your schedule so you can join us!
</p>

<p>Please note we have a new meeting venue!  Join us at Lupe Tortilla!</p><p>See you there!</p>
LOCATION:Lupe Tortilla, 9313 Katy Freeway, 77024
END:VEVENT
END:VCALENDAR