BEGIN:VCALENDAR
VERSION:2.0
BEGIN:VEVENT
URL:https://www.networkinaction.com/index.php/events/viewevent/3893-february-meeting?groupid=77 
DTSTART:20210209T150000
DTEND:20210209T163000
SUMMARY:February Meeting
DESCRIPTION:<p>Join your fellow group members for our February meeting.  Please make sure and arrange your schedule so you can join us!</p><br /><p>Please note we have a new meeting venue!  Join us at Lupe Tortilla and on Zoom at:  https://us02web.zoom.us/j/83345482508?pwd=MTc0cFVRK0lSNGRVSWJmZWw3dCt0QT09.</p><p>See you there!</p>
LOCATION:Lupe Tortilla, 9313 Katy Freeway, 77024 and Zoom
END:VEVENT
END:VCALENDAR