BEGIN:VCALENDAR
VERSION:2.0
BEGIN:VEVENT
URL:https://www.networkinaction.com/index.php/events/viewevent/3891-monthly-meeting?groupid=68 
DTSTART:20210211T153000
DTEND:20210211T170000
SUMMARY:Monthly Meeting
DESCRIPTION:
LOCATION:Zoom.us / Meeting ID: 713-678-0468
END:VEVENT
END:VCALENDAR