BEGIN:VCALENDAR
VERSION:2.0
BEGIN:VEVENT
URL:https://www.networkinaction.com/index.php/events/viewevent/3885-first-monthly-meeting?groupid=164 
DTSTART:20210311T150000
DTEND:20210311T163000
SUMMARY:First monthly meeting
DESCRIPTION:
LOCATION:Roseville, TBD
END:VEVENT
END:VCALENDAR