BEGIN:VCALENDAR
VERSION:2.0
BEGIN:VEVENT
URL:https://www.networkinaction.com/index.php/events/viewevent/3884-energy-corridor-farmers-market-republic-square?groupid=147 
DTSTART:20210206T100000
DTEND:20210206T140000
SUMMARY:Energy Corridor Farmers Market @ Republic Square
DESCRIPTION:If you are bored next Saturday and can't wait until our next meeting to try my coffee, come on out to the farmers market!
LOCATION:15425 Memorial Dr, Houston, TX 77079
END:VEVENT
END:VCALENDAR