BEGIN:VCALENDAR
VERSION:2.0
BEGIN:VEVENT
URL:https://www.networkinaction.com/index.php/events/viewevent/3881-february-monthly-meeting?groupid=139 
DTSTART:20210211T150000
DTEND:20210211T163000
SUMMARY:February Monthly Meeting
DESCRIPTION:
LOCATION:ZoomWithJoryFisher.com (Meeting ID 434 258 6793)
END:VEVENT
END:VCALENDAR