BEGIN:VCALENDAR
VERSION:2.0
BEGIN:VEVENT
URL:https://www.networkinaction.com/index.php/events/viewevent/3879-nia-st-pete-zoom-meeting?groupid=49 
DTSTART:20210211T160000
DTEND:20210211T164500
SUMMARY:NIA St Pete Zoom Meeting
DESCRIPTION:<p>Join us to connect with your fellow members!</p>
LOCATION:tonyzooms.com
END:VEVENT
END:VCALENDAR