BEGIN:VCALENDAR
VERSION:2.0
BEGIN:VEVENT
URL:https://www.networkinaction.com/index.php/events/viewevent/3860-nia-round-rock-monthly-meeting?groupid=46 
DTSTART:20211014T150000
DTEND:20211014T163000
SUMMARY:NIA Round Rock Monthly Meeting
RRULE:FREQ=MONTHLY;UNTIL=20220408T000000
DESCRIPTION:Come join members and guests as we create new business connections.  Looking forward to seeing everyone there!
LOCATION:Gino's Vino Osteria, 1400 E Old Settlers, Round Rock
END:VEVENT
END:VCALENDAR