BEGIN:VCALENDAR
VERSION:2.0
BEGIN:VEVENT
URL:https://www.networkinaction.com/index.php/events/viewevent/3848-february-monthly-meeting?groupid=14 
DTSTART:20210203T153000
DTEND:20210203T170000
SUMMARY:FEBRUARY MONTHLY MEETING
DESCRIPTION:Please join us for our February Monthly Meeting 


Come meet your new members and guests! We will be having an in-person meeting at the Memorial Wine Bar. We will be social distancing and have the entire bar. Masks will be required unless you are speaking, eating or drinking! 


We also have an option through Zoom for those who cannot  be in person due to quarantining or social distancing because of family members. 

Join Zoom Meeting

https://us02web.zoom.us/j/6987676230


So Very excited to see everyone!


PLEASE RSVP!


The novel Coronavirus (COVID-19) has been declared a global pandemic by the World

Health Organization (WHO). I understand that COVID-19 is extremely contagious.

Attendees must wear masks and practice social distancing while present at live events. 

Attending events acknowledges you knowingly and willingly consent not to hold Network

In Action at fault for attending any live events leading to possible exposure
LOCATION:Memorial Wine Cellar 7951 Katy Freeway, Houston, TX 77024
END:VEVENT
END:VCALENDAR