BEGIN:VCALENDAR
VERSION:2.0
BEGIN:VEVENT
URL:https://www.networkinaction.com/index.php/events/viewevent/3836-happy-hour-social?groupid=119 
DTSTART:20210219T160000
DTEND:20210219T180000
SUMMARY:Happy Hour Social
DESCRIPTION:We're going to start a monthly happy hour event for those who want to meet up in person on the 3rd Friday of every month from 4-6.

Our first event is going to be at 3rd Base in Round Rock at the intersection of 35 & 45.
LOCATION:Third Base, 3107 S IH 35 Frontage Rd, Round Rock, TX 78664
END:VEVENT
END:VCALENDAR