BEGIN:VCALENDAR
VERSION:2.0
BEGIN:VEVENT
URL:https://www.networkinaction.com/index.php/events/viewevent/3832-l-l-round-rock?groupid=87 
DTSTART:20210204T150000
DTEND:20210204T163000
SUMMARY:L&L Round Rock
DESCRIPTION:We're having a launch and learn for our Round Rock group at La Margarita. Feel encouraged to send someone you think would be a good for this group to this meeting. Remember, we give rewards to our members who help us grow the NIA community.

We'd love to have any members who would like to attend as well. It should be a lot of fun!
LOCATION:La Margarita Ristorante
END:VEVENT
END:VCALENDAR